BEGIN:VCALENDAR
VERSION:2.0
PRODID:-//wp-events-plugin.com//7.2.3.1//EN
BEGIN:VEVENT
UID:24@iacsp.org
DTSTART;TZID=America/Los_Angeles:20200930T080000
DTEND;TZID=America/Los_Angeles:20200930T093000
DTSTAMP:20200916T183225Z
URL:https://iacsp.org/events/security-surveillance-operations/
SUMMARY:Security Surveillance Operations
DESCRIPTION:This webinar will cover security operations and techniques for 
 perimeter and parking protection.
CATEGORIES:CSP,Webinars
END:VEVENT
BEGIN:VTIMEZONE
TZID:America/Los_Angeles
X-LIC-LOCATION:America/Los_Angeles
BEGIN:DAYLIGHT
DTSTART:20200308T030000
TZOFFSETFROM:-0800
TZOFFSETTO:-0700
TZNAME:PDT
END:DAYLIGHT
END:VTIMEZONE
END:VCALENDAR