BEGIN:VCALENDAR
VERSION:2.0
PRODID:-//wp-events-plugin.com//7.2.3.1//EN
BEGIN:VEVENT
UID:41@iacsp.org
DTSTART;TZID=America/Los_Angeles:20231108T090000
DTEND;TZID=America/Los_Angeles:20231108T103000
DTSTAMP:20231025T185727Z
URL:https://iacsp.org/events/investigations-audits-slot-analytics-insights
 -and-sds-credit-card-fraud/
SUMMARY:Investigations & Audits\, Slot Analytics & Insights\, and SDS & Cre
 dit Card Fraud
DESCRIPTION:This session\, presented by the ilani Resort team\, will discus
 s: 1. Proactive Investigations & Audits: Ensuring Integrity & Reducing Ris
 ks in Hospitality and Gaming Operations\; 2. Unlocking Slot Analytics & In
 sights: From Free Play INV to Data-Driven Strategies\; 3. Mastering SDS & 
 Fraud Prevention: From Test Accounts to Slot Tickets & Credit Card Investi
 gations.
CATEGORIES:CSP,Webinars
END:VEVENT
BEGIN:VTIMEZONE
TZID:America/Los_Angeles
X-LIC-LOCATION:America/Los_Angeles
BEGIN:STANDARD
DTSTART:20231105T010000
TZOFFSETFROM:-0700
TZOFFSETTO:-0800
TZNAME:PST
END:STANDARD
END:VTIMEZONE
END:VCALENDAR